{"text_format":"1","workbook":"xlsx","n_sheets":2,"sheets":["入力シート","Sheet2"],"not_rendered":{"charts":0,"images":0,"macros":1,"external_links":0,"defined_names":11,"comments":0,"pivot_tables":0},"unopened":[],"bounds":{"document_bytes":16777216,"sheet_cells":100000,"rows_first":2000,"rows_last":500,"rows_between":2000,"halvings":0,"cell_chars":16384,"cell_head_chars":4096},"cells_cut":0,"cells_raw":0,"read":"whole","date_system":"1900"}

{"sheet":"入力シート","index":0,"n_rows":5,"n_cols":7,"rows_kept":5,"cut":false,"hidden":false,"merged":[[1,0,1,6],[0,0,0,6]]}
["肥満度を求めてみよう（学童編）"]
["男子、女子別に年齢・身長・体重を入力してください"]
[null,"年齢(歳)","体重(㎏)","身長(㎝)","標準体重(㎏)","肥満度","判定"]
["男子",null,null,null,{"$f":"VLOOKUP(B4,Sheet2!A3:B16,2,FALSE)","v":{"$error":"#N/A"}},{"$f":"(C4-E4)/E4","v":{"$error":"#N/A"}},{"$f":"IFERROR(VLOOKUP(F4,Sheet2!L3:M12,2,2),\"\")","v":""}]
["女子",null,null,null,{"$f":"VLOOKUP(B5,Sheet2!F3:G16,2,FALSE)","v":{"$error":"#N/A"}},{"$f":"(C5-E5)/E5","v":{"$error":"#N/A"}},{"$f":"IFERROR(VLOOKUP(F5,Sheet2!L3:M12,2,2),\"\")","v":""}]

{"sheet":"Sheet2","index":1,"n_rows":16,"n_cols":13,"rows_kept":16,"cut":false,"hidden":false,"merged":[]}
[]
["（男子年齢別身長に対する標準体重）",null,null,null,null,"（女子年齢別身長に対する標準体重）"]
["年齢","標準体重","Ａ","Ｂ",null,"年齢","標準体重","Ａ","Ｂ",null,null,-0.99990000000000001,"やせ"]
[5,{"$f":"C4*入力シート!$D$4-D4","v":-23.699000000000002},0.38600000000000001,23.699000000000002,null,5,{"$f":"H4*入力シート!$D$5-I4","v":-22.75},0.377,22.75,null,null,-0.2001,"やせ"]
[6,{"$f":"C5*入力シート!$D$4-D5","v":-32.381999999999998},0.46100000000000002,32.381999999999998,null,6,{"$f":"H5*入力シート!$D$5-I5","v":-32.079000000000001},0.45800000000000002,32.079000000000001,null,null,-0.2,"標準"]
[7,{"$f":"C6*入力シート!$D$4-D6","v":-38.878},0.51300000000000001,38.878,null,7,{"$f":"H6*入力シート!$D$5-I6","v":-38.366999999999997},0.50800000000000001,38.366999999999997,null,null,0.19989999999999999,"標準"]
[8,{"$f":"C7*入力シート!$D$4-D7","v":-48.804000000000002},0.59199999999999997,48.804000000000002,null,8,{"$f":"H7*入力シート!$D$5-I7","v":-45.006},0.56100000000000005,45.006,null,null,0.2,"軽度肥満"]
[9,{"$f":"C8*入力シート!$D$4-D8","v":-61.39},0.68700000000000006,61.39,null,9,{"$f":"H8*入力シート!$D$5-I8","v":-56.991999999999997},0.65200000000000002,56.991999999999997,null,null,0.2999,"軽度肥満"]
[10,{"$f":"C9*入力シート!$D$4-D9","v":-70.460999999999999},0.752,70.460999999999999,null,10,{"$f":"H9*入力シート!$D$5-I9","v":-68.090999999999994},0.73,68.090999999999994,null,null,0.3,"中度肥満"]
[11,{"$f":"C10*入力シート!$D$4-D10","v":-75.105999999999995},0.78200000000000003,75.105999999999995,null,11,{"$f":"H10*入力シート!$D$5-I10","v":-78.846000000000004},0.80300000000000005,78.846000000000004,null,null,0.49990000000000001,"中度肥満"]
[12,{"$f":"C11*入力シート!$D$4-D11","v":-75.641999999999996},0.78300000000000003,75.641999999999996,null,12,{"$f":"H11*入力シート!$D$5-I11","v":-76.933999999999997},0.79600000000000004,76.933999999999997,null,null,0.3,"高度肥満"]
[13,{"$f":"C12*入力シート!$D$4-D12","v":-81.347999999999999},0.81499999999999995,81.347999999999999,null,13,{"$f":"H12*入力シート!$D$5-I12","v":-54.234000000000002},0.65500000000000003,54.234000000000002,null,null,0.99990000000000001,"高度肥満"]
[14,{"$f":"C13*入力シート!$D$4-D13","v":-83.694999999999993},0.83199999999999996,83.694999999999993,null,14,{"$f":"H13*入力シート!$D$5-I13","v":-43.264000000000003},0.59399999999999997,43.264000000000003]
[15,{"$f":"C14*入力シート!$D$4-D14","v":-70.989000000000004},0.76600000000000001,70.989000000000004,null,15,{"$f":"H14*入力シート!$D$5-I14","v":-37.002000000000002},0.56000000000000005,37.002000000000002]
[16,{"$f":"C15*入力シート!$D$4-D15","v":-51.822000000000003},0.65600000000000003,51.822000000000003,null,16,{"$f":"H15*入力シート!$D$5-I15","v":-39.057000000000002},0.57799999999999996,39.057000000000002]
[17,{"$f":"C16*入力シート!$D$4-D16","v":-53.642000000000003},0.67200000000000004,53.642000000000003,null,17,{"$f":"H16*入力シート!$D$5-I16","v":-42.338999999999999},0.59799999999999998,42.338999999999999]